BEGIN:VCALENDAR
VERSION:2.0
PRODID:-//hacksw/handcal//NONSGML v1.0//EN
BEGIN:VEVENT
SUMMARY:AG Espace Saint Anne
UID:c1c0059c-faa5-426d-814a-c74e0345e345
DTSTART:20260327T180000Z
DTEND:20260327T203000Z
LOCATION:Localisation   
CATEGORIES:Administratif
STATUS:
URL;VALUE=URI:https://marcherospez.sportsregions.fr/evenements/2026/03/27/ag-espace-saint-anne-2432511
END:VEVENT
END:VCALENDAR
